BEGIN:VCALENDAR
VERSION:2.0
PRODID:-//Goldgrube//myauktion.com//AT
CALSCALE:GREGORIAN
BEGIN:VEVENT
DTSTART:20260507T160300
DTEND:20260507T160330
LOCATION:Gewerbepark 13, 8562 Mooskirchen
DTSTAMP:20260423T192639
SUMMARY:MyAuktion: Ablauf Artikel Nr. 441916 Vidaxl Torgitter 151435.A
2d gate mesh 4x001 grey
URL;VALUE=URI:https://www.myauktion.com/versteigerung7670-position2446648-vidaxl-torgitter-151435a2d-gate-mesh-4x001-grey.php
DESCRIPTION:
UID:myauktion-7670-2446648
BEGIN:VALARM
ACTION:DISPLAY
DESCRIPTION:
TRIGGER:-PT10M
END:VALARM
END:VEVENT
END:VCALENDAR