BEGIN:VCALENDAR
VERSION:2.0
PRODID:-//Goldgrube//myauktion.com//AT
CALSCALE:GREGORIAN
BEGIN:VEVENT
DTSTART:20260507T160400
DTEND:20260507T160430
LOCATION:Gewerbepark 13, 8562 Mooskirchen
DTSTAMP:20260423T192638
SUMMARY:MyAuktion: Ablauf Artikel Nr. 441917 LUXNA LED-Treiber LXLFP3-40
URL;VALUE=URI:https://www.myauktion.com/versteigerung7670-position2446649-luxna-led-treiber-lxlfp3-40.php
DESCRIPTION:
UID:myauktion-7670-2446649
BEGIN:VALARM
ACTION:DISPLAY
DESCRIPTION:
TRIGGER:-PT10M
END:VALARM
END:VEVENT
END:VCALENDAR