BEGIN:VCALENDAR
VERSION:2.0
PRODID:-//Goldgrube//myauktion.com//AT
CALSCALE:GREGORIAN
BEGIN:VEVENT
DTSTART:20260507T160500
DTEND:20260507T160530
LOCATION:Gewerbepark 13, 8562 Mooskirchen
DTSTAMP:20260423T205511
SUMMARY:MyAuktion: Ablauf Artikel Nr. 441929 Garden Bed Assembly Instructions
URL;VALUE=URI:https://www.myauktion.com/versteigerung7670-position2446650-garden-bed-assembly-instructions.php
DESCRIPTION:
UID:myauktion-7670-2446650
BEGIN:VALARM
ACTION:DISPLAY
DESCRIPTION:
TRIGGER:-PT10M
END:VALARM
END:VEVENT
END:VCALENDAR