BEGIN:VCALENDAR
VERSION:2.0
PRODID:-//Goldgrube//myauktion.com//AT
CALSCALE:GREGORIAN
BEGIN:VEVENT
DTSTART:20260507T160600
DTEND:20260507T160630
LOCATION:Gewerbepark 13, 8562 Mooskirchen
DTSTAMP:20260424T045033
SUMMARY:MyAuktion: Ablauf Artikel Nr. 441930 FGR GmbH HS-DC VliesScheibe 15x13 mm A-med (blau)
URL;VALUE=URI:https://www.myauktion.com/versteigerung7670-position2446651-fgr-gmbh-hs-dc-vliesscheibe-15x13-mm-a-med-blau.php
DESCRIPTION:<div>Stückzahl: 10</div>
UID:myauktion-7670-2446651
BEGIN:VALARM
ACTION:DISPLAY
DESCRIPTION:<div>Stückzahl: 10</div>
TRIGGER:-PT10M
END:VALARM
END:VEVENT
END:VCALENDAR