BEGIN:VCALENDAR
VERSION:2.0
PRODID:-//Goldgrube//myauktion.com//AT
CALSCALE:GREGORIAN
BEGIN:VEVENT
DTSTART:20260507T160700
DTEND:20260507T160730
LOCATION:Gewerbepark 13, 8562 Mooskirchen
DTSTAMP:20260423T205512
SUMMARY:MyAuktion: Ablauf Artikel Nr. 441931 Elektrischer Anbausatz für Anhängerkupplung
URL;VALUE=URI:https://www.myauktion.com/versteigerung7670-position2446652-elektrischer-anbausatz-fuer-anhaengerkupplung.php
DESCRIPTION:
UID:myauktion-7670-2446652
BEGIN:VALARM
ACTION:DISPLAY
DESCRIPTION:
TRIGGER:-PT10M
END:VALARM
END:VEVENT
END:VCALENDAR