BEGIN:VCALENDAR
VERSION:2.0
PRODID:-//Goldgrube//myauktion.com//AT
CALSCALE:GREGORIAN
BEGIN:VEVENT
DTSTART:20260507T160800
DTEND:20260507T160830
LOCATION:Gewerbepark 13, 8562 Mooskirchen
DTSTAMP:20260423T205512
SUMMARY:MyAuktion: Ablauf Artikel Nr. 441937 atlas CF 2 black ESD S1
URL;VALUE=URI:https://www.myauktion.com/versteigerung7670-position2446653-atlas-cf-2-black-esd-s1.php
DESCRIPTION:<div>Größe: 38</div>
UID:myauktion-7670-2446653
BEGIN:VALARM
ACTION:DISPLAY
DESCRIPTION:<div>Größe: 38</div>
TRIGGER:-PT10M
END:VALARM
END:VEVENT
END:VCALENDAR