BEGIN:VCALENDAR
VERSION:2.0
PRODID:-//Goldgrube//myauktion.com//AT
CALSCALE:GREGORIAN
BEGIN:VEVENT
DTSTART:20260507T160900
DTEND:20260507T160930
LOCATION:Gewerbepark 13, 8562 Mooskirchen
DTSTAMP:20260423T205505
SUMMARY:MyAuktion: Ablauf Artikel Nr. 441940 Diverses  Rohrset
 Ca 90cm Lang 
Durchmesser 12cm 
6Stk
URL;VALUE=URI:https://www.myauktion.com/versteigerung7670-position2446654-diverses-rohrset-ca-90cm-lang-durchmesser-12cm-6stk.php
DESCRIPTION:
UID:myauktion-7670-2446654
BEGIN:VALARM
ACTION:DISPLAY
DESCRIPTION:
TRIGGER:-PT10M
END:VALARM
END:VEVENT
END:VCALENDAR