BEGIN:VCALENDAR
VERSION:2.0
PRODID:-//Goldgrube//myauktion.com//AT
CALSCALE:GREGORIAN
BEGIN:VEVENT
DTSTART:20260507T161000
DTEND:20260507T161030
LOCATION:Gewerbepark 13, 8562 Mooskirchen
DTSTAMP:20260423T205510
SUMMARY:MyAuktion: Ablauf Artikel Nr. 441942 Balconyrailing IP-451
21x10.5x96cm
URL;VALUE=URI:https://www.myauktion.com/versteigerung7670-position2446655-balconyrailing-ip-45121x105x96cm.php
DESCRIPTION:
UID:myauktion-7670-2446655
BEGIN:VALARM
ACTION:DISPLAY
DESCRIPTION:
TRIGGER:-PT10M
END:VALARM
END:VEVENT
END:VCALENDAR