BEGIN:VCALENDAR
VERSION:2.0
PRODID:-//Goldgrube//myauktion.com//AT
CALSCALE:GREGORIAN
BEGIN:VEVENT
DTSTART:20260506T134400
DTEND:20260506T134430
LOCATION:Gewerbepark 13, 8562 Mooskirchen
DTSTAMP:20260423T151123
SUMMARY:MyAuktion: Ablauf Artikel Nr. 443440 ND - Hebelmischer Auslauf Wandbatterie Art.Nr: 114.86 Z280 
URL;VALUE=URI:https://www.myauktion.com/versteigerung7661-position2446668-nd-hebelmischer-auslauf-wandbatterie-artnr-11486-z280.php
DESCRIPTION:
UID:myauktion-7661-2446668
BEGIN:VALARM
ACTION:DISPLAY
DESCRIPTION:
TRIGGER:-PT10M
END:VALARM
END:VEVENT
END:VCALENDAR