BEGIN:VCALENDAR
VERSION:2.0
PRODID:-//Goldgrube//myauktion.com//AT
CALSCALE:GREGORIAN
BEGIN:VEVENT
DTSTART:20260506T145000
DTEND:20260506T145030
LOCATION:Gewerbepark 13, 8562 Mooskirchen
DTSTAMP:20260423T151126
SUMMARY:MyAuktion: Ablauf Artikel Nr. 443659 Matratze leicht verschmutzt 200x180
URL;VALUE=URI:https://www.myauktion.com/versteigerung7661-position2446674-matratze-leicht-verschmutzt-200x180.php
DESCRIPTION:
UID:myauktion-7661-2446674
BEGIN:VALARM
ACTION:DISPLAY
DESCRIPTION:
TRIGGER:-PT10M
END:VALARM
END:VEVENT
END:VCALENDAR