BEGIN:VCALENDAR
VERSION:2.0
PRODID:-//Goldgrube//myauktion.com//AT
CALSCALE:GREGORIAN
BEGIN:VEVENT
DTSTART:20260506T134600
DTEND:20260506T134630
LOCATION:Gewerbepark 13, 8562 Mooskirchen
DTSTAMP:20260423T151125
SUMMARY:MyAuktion: Ablauf Artikel Nr. 443442 Homedem Senkrechtmarkise ca115cm 
URL;VALUE=URI:https://www.myauktion.com/versteigerung7661-position2446675-homedem-senkrechtmarkise-ca115cm.php
DESCRIPTION:
UID:myauktion-7661-2446675
BEGIN:VALARM
ACTION:DISPLAY
DESCRIPTION:
TRIGGER:-PT10M
END:VALARM
END:VEVENT
END:VCALENDAR