BEGIN:VCALENDAR
VERSION:2.0
PRODID:-//Goldgrube//myauktion.com//AT
CALSCALE:GREGORIAN
BEGIN:VEVENT
DTSTART:20260506T122900
DTEND:20260506T122930
LOCATION:Gewerbepark 13, 8562 Mooskirchen
DTSTAMP:20260423T151132
SUMMARY:MyAuktion: Ablauf Artikel Nr. 443014 Tridonic lumDATA LC 60W 24V one4all NF SC EXC2 SP 
URL;VALUE=URI:https://www.myauktion.com/versteigerung7661-position2446677-tridonic-lumdata-lc-60w-24v-one4all-nf-sc-exc2-sp.php
DESCRIPTION:
UID:myauktion-7661-2446677
BEGIN:VALARM
ACTION:DISPLAY
DESCRIPTION:
TRIGGER:-PT10M
END:VALARM
END:VEVENT
END:VCALENDAR