BEGIN:VCALENDAR
VERSION:2.0
PRODID:-//Goldgrube//myauktion.com//AT
CALSCALE:GREGORIAN
BEGIN:VEVENT
DTSTART:20260506T153600
DTEND:20260506T153630
LOCATION:Gewerbepark 13, 8562 Mooskirchen
DTSTAMP:20260423T151120
SUMMARY:MyAuktion: Ablauf Artikel Nr. 444023 Auto-Style WheelCovers Wieldoppen 15" 4stk 
URL;VALUE=URI:https://www.myauktion.com/versteigerung7661-position2446678-auto-style-wheelcovers-wieldoppen-15-34-4stk.php
DESCRIPTION:
UID:myauktion-7661-2446678
BEGIN:VALARM
ACTION:DISPLAY
DESCRIPTION:
TRIGGER:-PT10M
END:VALARM
END:VEVENT
END:VCALENDAR