BEGIN:VCALENDAR
VERSION:2.0
PRODID:-//Goldgrube//myauktion.com//AT
CALSCALE:GREGORIAN
BEGIN:VEVENT
DTSTART:20260506T134700
DTEND:20260506T134730
LOCATION:Gewerbepark 13, 8562 Mooskirchen
DTSTAMP:20260423T151127
SUMMARY:MyAuktion: Ablauf Artikel Nr. 443443 Couchtisch Twinkle Traventin Braun Granit Optik 123,5x63,5cm Höhe 8cm  
URL;VALUE=URI:https://www.myauktion.com/versteigerung7661-position2446680-couchtisch-twinkle-traventin-braun-granit-optik-1235x635cm-hoehe-8cm.php
DESCRIPTION:
UID:myauktion-7661-2446680
BEGIN:VALARM
ACTION:DISPLAY
DESCRIPTION:
TRIGGER:-PT10M
END:VALARM
END:VEVENT
END:VCALENDAR