BEGIN:VCALENDAR
VERSION:2.0
PRODID:-//Goldgrube//myauktion.com//AT
CALSCALE:GREGORIAN
BEGIN:VEVENT
DTSTART:20260506T123000
DTEND:20260506T123030
LOCATION:Gewerbepark 13, 8562 Mooskirchen
DTSTAMP:20260423T151114
SUMMARY:MyAuktion: Ablauf Artikel Nr. 443015 New Rock Crust Negro Crust  Leder Stiefel 
URL;VALUE=URI:https://www.myauktion.com/versteigerung7661-position2446681-new-rock-crust-negro-crust-leder-stiefel.php
DESCRIPTION:Gr. 39 
UID:myauktion-7661-2446681
BEGIN:VALARM
ACTION:DISPLAY
DESCRIPTION:Gr. 39 
TRIGGER:-PT10M
END:VALARM
END:VEVENT
END:VCALENDAR