BEGIN:VCALENDAR
VERSION:2.0
PRODID:-//Goldgrube//myauktion.com//AT
CALSCALE:GREGORIAN
BEGIN:VEVENT
DTSTART:20260506T153900
DTEND:20260506T153930
LOCATION:Gewerbepark 13, 8562 Mooskirchen
DTSTAMP:20260423T151129
SUMMARY:MyAuktion: Ablauf Artikel Nr. 444025 DebuaXXL  Casaria Kaminschutzgitter mit Sicherheitstür 306cm 
URL;VALUE=URI:https://www.myauktion.com/versteigerung7661-position2446683-debuaxxl-casaria-kaminschutzgitter-mit-sicherheitstuer-306cm.php
DESCRIPTION:
UID:myauktion-7661-2446683
BEGIN:VALARM
ACTION:DISPLAY
DESCRIPTION:
TRIGGER:-PT10M
END:VALARM
END:VEVENT
END:VCALENDAR