BEGIN:VCALENDAR
VERSION:2.0
PRODID:-//Goldgrube//myauktion.com//AT
CALSCALE:GREGORIAN
BEGIN:VEVENT
DTSTART:20260506T123200
DTEND:20260506T123230
LOCATION:Gewerbepark 13, 8562 Mooskirchen
DTSTAMP:20260423T134507
SUMMARY:MyAuktion: Ablauf Artikel Nr. 443017 HJS Rohrverbinder d42x125mm 10Stk 
URL;VALUE=URI:https://www.myauktion.com/versteigerung7661-position2446685-hjs-rohrverbinder-d42x125mm-10stk.php
DESCRIPTION:
UID:myauktion-7661-2446685
BEGIN:VALARM
ACTION:DISPLAY
DESCRIPTION:
TRIGGER:-PT10M
END:VALARM
END:VEVENT
END:VCALENDAR