BEGIN:VCALENDAR
VERSION:2.0
PRODID:-//Goldgrube//myauktion.com//AT
CALSCALE:GREGORIAN
BEGIN:VEVENT
DTSTART:20260506T154100
DTEND:20260506T154130
LOCATION:Gewerbepark 13, 8562 Mooskirchen
DTSTAMP:20260423T151127
SUMMARY:MyAuktion: Ablauf Artikel Nr. 444026 Ridex Bremsbelagsatz Scheibenbremse 402B0016
URL;VALUE=URI:https://www.myauktion.com/versteigerung7661-position2446687-ridex-bremsbelagsatz-scheibenbremse-402b0016.php
DESCRIPTION:
UID:myauktion-7661-2446687
BEGIN:VALARM
ACTION:DISPLAY
DESCRIPTION:
TRIGGER:-PT10M
END:VALARM
END:VEVENT
END:VCALENDAR