BEGIN:VCALENDAR
VERSION:2.0
PRODID:-//Goldgrube//myauktion.com//AT
CALSCALE:GREGORIAN
BEGIN:VEVENT
DTSTART:20260506T123300
DTEND:20260506T123330
LOCATION:Gewerbepark 13, 8562 Mooskirchen
DTSTAMP:20260423T121941
SUMMARY:MyAuktion: Ablauf Artikel Nr. 443019 HJS VW-Schelle d 50,5mm 10Stk 
URL;VALUE=URI:https://www.myauktion.com/versteigerung7661-position2446688-hjs-vw-schelle-d-505mm-10stk.php
DESCRIPTION:
UID:myauktion-7661-2446688
BEGIN:VALARM
ACTION:DISPLAY
DESCRIPTION:
TRIGGER:-PT10M
END:VALARM
END:VEVENT
END:VCALENDAR