BEGIN:VCALENDAR
VERSION:2.0
PRODID:-//Goldgrube//myauktion.com//AT
CALSCALE:GREGORIAN
BEGIN:VEVENT
DTSTART:20260506T145300
DTEND:20260506T145330
LOCATION:Gewerbepark 13, 8562 Mooskirchen
DTSTAMP:20260423T151131
SUMMARY:MyAuktion: Ablauf Artikel Nr. 443664 Ista Heizkostenverteiler
URL;VALUE=URI:https://www.myauktion.com/versteigerung7661-position2446689-ista-heizkostenverteiler.php
DESCRIPTION:Gebraucht
UID:myauktion-7661-2446689
BEGIN:VALARM
ACTION:DISPLAY
DESCRIPTION:Gebraucht
TRIGGER:-PT10M
END:VALARM
END:VEVENT
END:VCALENDAR