BEGIN:VCALENDAR
VERSION:2.0
PRODID:-//Goldgrube//myauktion.com//AT
CALSCALE:GREGORIAN
BEGIN:VEVENT
DTSTART:20260506T134800
DTEND:20260506T134830
LOCATION:Gewerbepark 13, 8562 Mooskirchen
DTSTAMP:20260423T151131
SUMMARY:MyAuktion: Ablauf Artikel Nr. 443444 PATRON Compact Fluorescent Lamp 18W 05528 
URL;VALUE=URI:https://www.myauktion.com/versteigerung7661-position2446691-patron-compact-fluorescent-lamp-18w-05528.php
DESCRIPTION:
UID:myauktion-7661-2446691
BEGIN:VALARM
ACTION:DISPLAY
DESCRIPTION:
TRIGGER:-PT10M
END:VALARM
END:VEVENT
END:VCALENDAR