BEGIN:VCALENDAR
VERSION:2.0
PRODID:-//Goldgrube//myauktion.com//AT
CALSCALE:GREGORIAN
BEGIN:VEVENT
DTSTART:20260506T145400
DTEND:20260506T145430
LOCATION:Gewerbepark 13, 8562 Mooskirchen
DTSTAMP:20260423T151125
SUMMARY:MyAuktion: Ablauf Artikel Nr. 443665 Ultrasonic Flow Sensor 77670
URL;VALUE=URI:https://www.myauktion.com/versteigerung7661-position2446692-ultrasonic-flow-sensor-77670.php
DESCRIPTION:Gebraucht
UID:myauktion-7661-2446692
BEGIN:VALARM
ACTION:DISPLAY
DESCRIPTION:Gebraucht
TRIGGER:-PT10M
END:VALARM
END:VEVENT
END:VCALENDAR