BEGIN:VCALENDAR
VERSION:2.0
PRODID:-//Goldgrube//myauktion.com//AT
CALSCALE:GREGORIAN
BEGIN:VEVENT
DTSTART:20260506T154200
DTEND:20260506T154230
LOCATION:Gewerbepark 13, 8562 Mooskirchen
DTSTAMP:20260423T151118
SUMMARY:MyAuktion: Ablauf Artikel Nr. 444030 Lico Sundsvall VS 720349
URL;VALUE=URI:https://www.myauktion.com/versteigerung7661-position2446694-lico-sundsvall-vs-720349.php
DESCRIPTION:Gr. 25
UID:myauktion-7661-2446694
BEGIN:VALARM
ACTION:DISPLAY
DESCRIPTION:Gr. 25
TRIGGER:-PT10M
END:VALARM
END:VEVENT
END:VCALENDAR