BEGIN:VCALENDAR
VERSION:2.0
PRODID:-//Goldgrube//myauktion.com//AT
CALSCALE:GREGORIAN
BEGIN:VEVENT
DTSTART:20260506T154300
DTEND:20260506T154330
LOCATION:Gewerbepark 13, 8562 Mooskirchen
DTSTAMP:20260423T151123
SUMMARY:MyAuktion: Ablauf Artikel Nr. 444033 Lico Salla VS 710248
URL;VALUE=URI:https://www.myauktion.com/versteigerung7661-position2446696-lico-salla-vs-710248.php
DESCRIPTION:Gr. 39
UID:myauktion-7661-2446696
BEGIN:VALARM
ACTION:DISPLAY
DESCRIPTION:Gr. 39
TRIGGER:-PT10M
END:VALARM
END:VEVENT
END:VCALENDAR