BEGIN:VCALENDAR
VERSION:2.0
PRODID:-//Goldgrube//myauktion.com//AT
CALSCALE:GREGORIAN
BEGIN:VEVENT
DTSTART:20260506T154500
DTEND:20260506T154530
LOCATION:Gewerbepark 13, 8562 Mooskirchen
DTSTAMP:20260423T151124
SUMMARY:MyAuktion: Ablauf Artikel Nr. 444036 Lico Rurik 710223 
URL;VALUE=URI:https://www.myauktion.com/versteigerung7661-position2446698-lico-rurik-710223.php
DESCRIPTION:Gr  44
UID:myauktion-7661-2446698
BEGIN:VALARM
ACTION:DISPLAY
DESCRIPTION:Gr  44
TRIGGER:-PT10M
END:VALARM
END:VEVENT
END:VCALENDAR