BEGIN:VCALENDAR
VERSION:2.0
PRODID:-//Goldgrube//myauktion.com//AT
CALSCALE:GREGORIAN
BEGIN:VEVENT
DTSTART:20260506T123500
DTEND:20260506T123530
LOCATION:Gewerbepark 13, 8562 Mooskirchen
DTSTAMP:20260423T151120
SUMMARY:MyAuktion: Ablauf Artikel Nr. 443024 Teppich Twilight silber weiß 80x230cm 
URL;VALUE=URI:https://www.myauktion.com/versteigerung7661-position2446701-teppich-twilight-silber-weiss-80x230cm.php
DESCRIPTION:
UID:myauktion-7661-2446701
BEGIN:VALARM
ACTION:DISPLAY
DESCRIPTION:
TRIGGER:-PT10M
END:VALARM
END:VEVENT
END:VCALENDAR