BEGIN:VCALENDAR
VERSION:2.0
PRODID:-//Goldgrube//myauktion.com//AT
CALSCALE:GREGORIAN
BEGIN:VEVENT
DTSTART:20260506T123700
DTEND:20260506T123730
LOCATION:Gewerbepark 13, 8562 Mooskirchen
DTSTAMP:20260423T151132
SUMMARY:MyAuktion: Ablauf Artikel Nr. 443029 Stihlgarnitur ausziehbar Länge: ca. 120-220cm ø13/16mm 
URL;VALUE=URI:https://www.myauktion.com/versteigerung7661-position2446705-stihlgarnitur-ausziehbar-laenge-ca-120-220cm-13-16mm.php
DESCRIPTION:
UID:myauktion-7661-2446705
BEGIN:VALARM
ACTION:DISPLAY
DESCRIPTION:
TRIGGER:-PT10M
END:VALARM
END:VEVENT
END:VCALENDAR