BEGIN:VCALENDAR
VERSION:2.0
PRODID:-//Goldgrube//myauktion.com//AT
CALSCALE:GREGORIAN
BEGIN:VEVENT
DTSTART:20260506T140000
DTEND:20260506T140030
LOCATION:Gewerbepark 13, 8562 Mooskirchen
DTSTAMP:20260423T151119
SUMMARY:MyAuktion: Ablauf Artikel Nr. 443454 Hera 5er Set LED Eco Pad F alu  Art.Nr: 20203115002
URL;VALUE=URI:https://www.myauktion.com/versteigerung7661-position2446708-hera-5er-set-led-eco-pad-f-alu-artnr-20203115002.php
DESCRIPTION:
UID:myauktion-7661-2446708
BEGIN:VALARM
ACTION:DISPLAY
DESCRIPTION:
TRIGGER:-PT10M
END:VALARM
END:VEVENT
END:VCALENDAR