BEGIN:VCALENDAR
VERSION:2.0
PRODID:-//Goldgrube//myauktion.com//AT
CALSCALE:GREGORIAN
BEGIN:VEVENT
DTSTART:20260506T124000
DTEND:20260506T124030
LOCATION:Gewerbepark 13, 8562 Mooskirchen
DTSTAMP:20260423T151113
SUMMARY:MyAuktion: Ablauf Artikel Nr. 443033 KC Boutique Soft Booties Bunny für Babys 
URL;VALUE=URI:https://www.myauktion.com/versteigerung7661-position2446710-kc-boutique-soft-booties-bunny-fuer-babys.php
DESCRIPTION:
UID:myauktion-7661-2446710
BEGIN:VALARM
ACTION:DISPLAY
DESCRIPTION:
TRIGGER:-PT10M
END:VALARM
END:VEVENT
END:VCALENDAR