BEGIN:VCALENDAR
VERSION:2.0
PRODID:-//Goldgrube//myauktion.com//AT
CALSCALE:GREGORIAN
BEGIN:VEVENT
DTSTART:20260506T124100
DTEND:20260506T124130
LOCATION:Gewerbepark 13, 8562 Mooskirchen
DTSTAMP:20260423T151112
SUMMARY:MyAuktion: Ablauf Artikel Nr. 443034 Change 2in1 bio case taupe iPhone 14Max 
URL;VALUE=URI:https://www.myauktion.com/versteigerung7661-position2446711-change-2in1-bio-case-taupe-iphone-14max.php
DESCRIPTION:
UID:myauktion-7661-2446711
BEGIN:VALARM
ACTION:DISPLAY
DESCRIPTION:
TRIGGER:-PT10M
END:VALARM
END:VEVENT
END:VCALENDAR