BEGIN:VCALENDAR
VERSION:2.0
PRODID:-//Goldgrube//myauktion.com//AT
CALSCALE:GREGORIAN
BEGIN:VEVENT
DTSTART:20260506T155000
DTEND:20260506T155030
LOCATION:Gewerbepark 13, 8562 Mooskirchen
DTSTAMP:20260423T151112
SUMMARY:MyAuktion: Ablauf Artikel Nr. 444051 Spaker Wall Mount PJ SM0034 X-0
URL;VALUE=URI:https://www.myauktion.com/versteigerung7661-position2446712-spaker-wall-mount-pj-sm0034-x-0.php
DESCRIPTION:Verpackung leicht beschädigt, einige Teile können fehlen. 
UID:myauktion-7661-2446712
BEGIN:VALARM
ACTION:DISPLAY
DESCRIPTION:Verpackung leicht beschädigt, einige Teile können fehlen. 
TRIGGER:-PT10M
END:VALARM
END:VEVENT
END:VCALENDAR