BEGIN:VCALENDAR
VERSION:2.0
PRODID:-//Goldgrube//myauktion.com//AT
CALSCALE:GREGORIAN
BEGIN:VEVENT
DTSTART:20260506T155100
DTEND:20260506T155130
LOCATION:Gewerbepark 13, 8562 Mooskirchen
DTSTAMP:20260423T151113
SUMMARY:MyAuktion: Ablauf Artikel Nr. 444056 Búfalo Active Fresh Schuhdeo 100ml
URL;VALUE=URI:https://www.myauktion.com/versteigerung7661-position2446713-bfalo-active-fresh-schuhdeo-100ml.php
DESCRIPTION:
UID:myauktion-7661-2446713
BEGIN:VALARM
ACTION:DISPLAY
DESCRIPTION:
TRIGGER:-PT10M
END:VALARM
END:VEVENT
END:VCALENDAR