BEGIN:VCALENDAR
VERSION:2.0
PRODID:-//Goldgrube//myauktion.com//AT
CALSCALE:GREGORIAN
BEGIN:VEVENT
DTSTART:20260506T140100
DTEND:20260506T140130
LOCATION:Gewerbepark 13, 8562 Mooskirchen
DTSTAMP:20260423T151109
SUMMARY:MyAuktion: Ablauf Artikel Nr. 443457 BVN Motor Art.Nr 152.18.009 Durchmesser ca  60
URL;VALUE=URI:https://www.myauktion.com/versteigerung7661-position2446714-bvn-motor-artnr-15218009-durchmesser-ca-60.php
DESCRIPTION:
UID:myauktion-7661-2446714
BEGIN:VALARM
ACTION:DISPLAY
DESCRIPTION:
TRIGGER:-PT10M
END:VALARM
END:VEVENT
END:VCALENDAR