BEGIN:VCALENDAR
VERSION:2.0
PRODID:-//Goldgrube//myauktion.com//AT
CALSCALE:GREGORIAN
BEGIN:VEVENT
DTSTART:20260506T155200
DTEND:20260506T155230
LOCATION:Gewerbepark 13, 8562 Mooskirchen
DTSTAMP:20260423T151111
SUMMARY:MyAuktion: Ablauf Artikel Nr. 444057 Friess Goldfaden Mahler Farbwalze 
URL;VALUE=URI:https://www.myauktion.com/versteigerung7661-position2446715-friess-goldfaden-mahler-farbwalze.php
DESCRIPTION:Ca. 18cm 
UID:myauktion-7661-2446715
BEGIN:VALARM
ACTION:DISPLAY
DESCRIPTION:Ca. 18cm 
TRIGGER:-PT10M
END:VALARM
END:VEVENT
END:VCALENDAR