BEGIN:VCALENDAR
VERSION:2.0
PRODID:-//Goldgrube//myauktion.com//AT
CALSCALE:GREGORIAN
BEGIN:VEVENT
DTSTART:20260506T124600
DTEND:20260506T124630
LOCATION:Gewerbepark 13, 8562 Mooskirchen
DTSTAMP:20260423T151113
SUMMARY:MyAuktion: Ablauf Artikel Nr. 443042 PMS Steripack Self Seal Pouch 30cm x 43cm 200Stk 
URL;VALUE=URI:https://www.myauktion.com/versteigerung7661-position2446719-pms-steripack-self-seal-pouch-30cm-x-43cm-200stk.php
DESCRIPTION:
UID:myauktion-7661-2446719
BEGIN:VALARM
ACTION:DISPLAY
DESCRIPTION:
TRIGGER:-PT10M
END:VALARM
END:VEVENT
END:VCALENDAR