BEGIN:VCALENDAR
VERSION:2.0
PRODID:-//Goldgrube//myauktion.com//AT
CALSCALE:GREGORIAN
BEGIN:VEVENT
DTSTART:20260506T124700
DTEND:20260506T124730
LOCATION:Gewerbepark 13, 8562 Mooskirchen
DTSTAMP:20260423T151109
SUMMARY:MyAuktion: Ablauf Artikel Nr. 443043 Sartorius Cellulose Nitrate Filter 100Stk 0,45 
URL;VALUE=URI:https://www.myauktion.com/versteigerung7661-position2446721-sartorius-cellulose-nitrate-filter-100stk-045.php
DESCRIPTION:
UID:myauktion-7661-2446721
BEGIN:VALARM
ACTION:DISPLAY
DESCRIPTION:
TRIGGER:-PT10M
END:VALARM
END:VEVENT
END:VCALENDAR