BEGIN:VCALENDAR
VERSION:2.0
PRODID:-//Goldgrube//myauktion.com//AT
CALSCALE:GREGORIAN
BEGIN:VEVENT
DTSTART:20260506T124800
DTEND:20260506T124830
LOCATION:Gewerbepark 13, 8562 Mooskirchen
DTSTAMP:20260423T151119
SUMMARY:MyAuktion: Ablauf Artikel Nr. 443044 Thermometer aus Glas Eintauch/Immersion 52mm 
URL;VALUE=URI:https://www.myauktion.com/versteigerung7661-position2446722-thermometer-aus-glas-eintauch-immersion-52mm.php
DESCRIPTION:
UID:myauktion-7661-2446722
BEGIN:VALARM
ACTION:DISPLAY
DESCRIPTION:
TRIGGER:-PT10M
END:VALARM
END:VEVENT
END:VCALENDAR