BEGIN:VCALENDAR
VERSION:2.0
PRODID:-//Goldgrube//myauktion.com//AT
CALSCALE:GREGORIAN
BEGIN:VEVENT
DTSTART:20260506T124900
DTEND:20260506T124930
LOCATION:Gewerbepark 13, 8562 Mooskirchen
DTSTAMP:20260423T151114
SUMMARY:MyAuktion: Ablauf Artikel Nr. 443046 Magnetrührstäbchen 35x15mm ellipsenförmig 
URL;VALUE=URI:https://www.myauktion.com/versteigerung7661-position2446723-magnetruehrstaebchen-35x15mm-ellipsenfoermig.php
DESCRIPTION:
UID:myauktion-7661-2446723
BEGIN:VALARM
ACTION:DISPLAY
DESCRIPTION:
TRIGGER:-PT10M
END:VALARM
END:VEVENT
END:VCALENDAR