BEGIN:VCALENDAR
VERSION:2.0
PRODID:-//Goldgrube//myauktion.com//AT
CALSCALE:GREGORIAN
BEGIN:VEVENT
DTSTART:20260506T125000
DTEND:20260506T125030
LOCATION:Gewerbepark 13, 8562 Mooskirchen
DTSTAMP:20260423T151112
SUMMARY:MyAuktion: Ablauf Artikel Nr. 443047 Gira System55 Anthrazit Wippe 2f Pfeil 329428 10Stk
URL;VALUE=URI:https://www.myauktion.com/versteigerung7661-position2446724-gira-system55-anthrazit-wippe-2f-pfeil-329428-10stk.php
DESCRIPTION:
UID:myauktion-7661-2446724
BEGIN:VALARM
ACTION:DISPLAY
DESCRIPTION:
TRIGGER:-PT10M
END:VALARM
END:VEVENT
END:VCALENDAR