BEGIN:VCALENDAR
VERSION:2.0
PRODID:-//Goldgrube//myauktion.com//AT
CALSCALE:GREGORIAN
BEGIN:VEVENT
DTSTART:20260506T145700
DTEND:20260506T145730
LOCATION:Gewerbepark 13, 8562 Mooskirchen
DTSTAMP:20260423T151112
SUMMARY:MyAuktion: Ablauf Artikel Nr. 443669 Unterteller weiss 
URL;VALUE=URI:https://www.myauktion.com/versteigerung7661-position2446725-unterteller-weiss.php
DESCRIPTION:6 Teile
UID:myauktion-7661-2446725
BEGIN:VALARM
ACTION:DISPLAY
DESCRIPTION:6 Teile
TRIGGER:-PT10M
END:VALARM
END:VEVENT
END:VCALENDAR