BEGIN:VCALENDAR
VERSION:2.0
PRODID:-//Goldgrube//myauktion.com//AT
CALSCALE:GREGORIAN
BEGIN:VEVENT
DTSTART:20260506T140200
DTEND:20260506T140230
LOCATION:Gewerbepark 13, 8562 Mooskirchen
DTSTAMP:20260423T151111
SUMMARY:MyAuktion: Ablauf Artikel Nr. 443459 Laserjet HP 30x CF230X Schwarz 
URL;VALUE=URI:https://www.myauktion.com/versteigerung7661-position2446727-laserjet-hp-30x-cf230x-schwarz.php
DESCRIPTION:
UID:myauktion-7661-2446727
BEGIN:VALARM
ACTION:DISPLAY
DESCRIPTION:
TRIGGER:-PT10M
END:VALARM
END:VEVENT
END:VCALENDAR