BEGIN:VCALENDAR
VERSION:2.0
PRODID:-//Goldgrube//myauktion.com//AT
CALSCALE:GREGORIAN
BEGIN:VEVENT
DTSTART:20260506T125400
DTEND:20260506T125430
LOCATION:Gewerbepark 13, 8562 Mooskirchen
DTSTAMP:20260423T151115
SUMMARY:MyAuktion: Ablauf Artikel Nr. 443052 Luamaya Adventskalender 2025 gold 
URL;VALUE=URI:https://www.myauktion.com/versteigerung7661-position2446730-luamaya-adventskalender-2025-gold.php
DESCRIPTION:Wert 862€ 
UID:myauktion-7661-2446730
BEGIN:VALARM
ACTION:DISPLAY
DESCRIPTION:Wert 862€ 
TRIGGER:-PT10M
END:VALARM
END:VEVENT
END:VCALENDAR