BEGIN:VCALENDAR
VERSION:2.0
PRODID:-//Goldgrube//myauktion.com//AT
CALSCALE:GREGORIAN
BEGIN:VEVENT
DTSTART:20260506T125500
DTEND:20260506T125530
LOCATION:Gewerbepark 13, 8562 Mooskirchen
DTSTAMP:20260423T151117
SUMMARY:MyAuktion: Ablauf Artikel Nr. 443054 Cimco Rohrschneider 
URL;VALUE=URI:https://www.myauktion.com/versteigerung7661-position2446732-cimco-rohrschneider.php
DESCRIPTION:Gebraucht
UID:myauktion-7661-2446732
BEGIN:VALARM
ACTION:DISPLAY
DESCRIPTION:Gebraucht
TRIGGER:-PT10M
END:VALARM
END:VEVENT
END:VCALENDAR