BEGIN:VCALENDAR
VERSION:2.0
PRODID:-//Goldgrube//myauktion.com//AT
CALSCALE:GREGORIAN
BEGIN:VEVENT
DTSTART:20260506T140400
DTEND:20260506T140430
LOCATION:Gewerbepark 13, 8562 Mooskirchen
DTSTAMP:20260423T151116
SUMMARY:MyAuktion: Ablauf Artikel Nr. 443461 Magic- Chart Paperchart 60x80cm Static 25 stk
URL;VALUE=URI:https://www.myauktion.com/versteigerung7661-position2446733-magic-chart-paperchart-60x80cm-static-25-stk.php
DESCRIPTION:
UID:myauktion-7661-2446733
BEGIN:VALARM
ACTION:DISPLAY
DESCRIPTION:
TRIGGER:-PT10M
END:VALARM
END:VEVENT
END:VCALENDAR