BEGIN:VCALENDAR
VERSION:2.0
PRODID:-//Goldgrube//myauktion.com//AT
CALSCALE:GREGORIAN
BEGIN:VEVENT
DTSTART:20260506T125600
DTEND:20260506T125630
LOCATION:Gewerbepark 13, 8562 Mooskirchen
DTSTAMP:20260423T151115
SUMMARY:MyAuktion: Ablauf Artikel Nr. 443055 Bomi Kinderschutzgitter weiß 2742 
URL;VALUE=URI:https://www.myauktion.com/versteigerung7661-position2446734-bomi-kinderschutzgitter-weiss-2742.php
DESCRIPTION:Verpackung beschädigt 
UID:myauktion-7661-2446734
BEGIN:VALARM
ACTION:DISPLAY
DESCRIPTION:Verpackung beschädigt 
TRIGGER:-PT10M
END:VALARM
END:VEVENT
END:VCALENDAR