BEGIN:VCALENDAR
VERSION:2.0
PRODID:-//Goldgrube//myauktion.com//AT
CALSCALE:GREGORIAN
BEGIN:VEVENT
DTSTART:20260506T150000
DTEND:20260506T150030
LOCATION:Gewerbepark 13, 8562 Mooskirchen
DTSTAMP:20260423T151114
SUMMARY:MyAuktion: Ablauf Artikel Nr. 443675 ARCCHIO Wand-Lampe
URL;VALUE=URI:https://www.myauktion.com/versteigerung7661-position2446736-arcchio-wand-lampe.php
DESCRIPTION:2 Teile
UID:myauktion-7661-2446736
BEGIN:VALARM
ACTION:DISPLAY
DESCRIPTION:2 Teile
TRIGGER:-PT10M
END:VALARM
END:VEVENT
END:VCALENDAR