BEGIN:VCALENDAR
VERSION:2.0
PRODID:-//Goldgrube//myauktion.com//AT
CALSCALE:GREGORIAN
BEGIN:VEVENT
DTSTART:20260506T125700
DTEND:20260506T125730
LOCATION:Gewerbepark 13, 8562 Mooskirchen
DTSTAMP:20260423T151132
SUMMARY:MyAuktion: Ablauf Artikel Nr. 443061 Pure Care Luca Velcro Schuhe grau 
URL;VALUE=URI:https://www.myauktion.com/versteigerung7661-position2446737-pure-care-luca-velcro-schuhe-grau.php
DESCRIPTION:Gr. UK 8
UID:myauktion-7661-2446737
BEGIN:VALARM
ACTION:DISPLAY
DESCRIPTION:Gr. UK 8
TRIGGER:-PT10M
END:VALARM
END:VEVENT
END:VCALENDAR