BEGIN:VCALENDAR
VERSION:2.0
PRODID:-//Goldgrube//myauktion.com//AT
CALSCALE:GREGORIAN
BEGIN:VEVENT
DTSTART:20260506T125800
DTEND:20260506T125830
LOCATION:Gewerbepark 13, 8562 Mooskirchen
DTSTAMP:20260423T151113
SUMMARY:MyAuktion: Ablauf Artikel Nr. 443062 Pure Care Gentle Schuhe Dark Taupe 
URL;VALUE=URI:https://www.myauktion.com/versteigerung7661-position2446738-pure-care-gentle-schuhe-dark-taupe.php
DESCRIPTION:Gr. UK 4 
UID:myauktion-7661-2446738
BEGIN:VALARM
ACTION:DISPLAY
DESCRIPTION:Gr. UK 4 
TRIGGER:-PT10M
END:VALARM
END:VEVENT
END:VCALENDAR