BEGIN:VCALENDAR
VERSION:2.0
PRODID:-//Goldgrube//myauktion.com//AT
CALSCALE:GREGORIAN
BEGIN:VEVENT
DTSTART:20260506T125900
DTEND:20260506T125930
LOCATION:Gewerbepark 13, 8562 Mooskirchen
DTSTAMP:20260423T151113
SUMMARY:MyAuktion: Ablauf Artikel Nr. 443063 Pure Care Orlando Velcro Schuhe black
URL;VALUE=URI:https://www.myauktion.com/versteigerung7661-position2446739-pure-care-orlando-velcro-schuhe-black.php
DESCRIPTION:Gr. UK 8
UID:myauktion-7661-2446739
BEGIN:VALARM
ACTION:DISPLAY
DESCRIPTION:Gr. UK 8
TRIGGER:-PT10M
END:VALARM
END:VEVENT
END:VCALENDAR