BEGIN:VCALENDAR
VERSION:2.0
PRODID:-//Goldgrube//myauktion.com//AT
CALSCALE:GREGORIAN
BEGIN:VEVENT
DTSTART:20260506T150300
DTEND:20260506T150330
LOCATION:Gewerbepark 13, 8562 Mooskirchen
DTSTAMP:20260423T151110
SUMMARY:MyAuktion: Ablauf Artikel Nr. 443678 Flex Wolle Isolierschale Mineralwolle
URL;VALUE=URI:https://www.myauktion.com/versteigerung7661-position2446742-flex-wolle-isolierschale-mineralwolle.php
DESCRIPTION:1 Meter lang, 14cm durchmesser
UID:myauktion-7661-2446742
BEGIN:VALARM
ACTION:DISPLAY
DESCRIPTION:1 Meter lang, 14cm durchmesser
TRIGGER:-PT10M
END:VALARM
END:VEVENT
END:VCALENDAR